BEGIN:VCALENDAR
VERSION:2.0
PRODID:-//Emily Belvedere - ECPv6.13.2.1//NONSGML v1.0//EN
CALSCALE:GREGORIAN
METHOD:PUBLISH
X-WR-CALNAME:Emily Belvedere
X-ORIGINAL-URL:https://www.emilybelvedere.com
X-WR-CALDESC:Events for Emily Belvedere
REFRESH-INTERVAL;VALUE=DURATION:PT1H
X-Robots-Tag:noindex
X-PUBLISHED-TTL:PT1H
BEGIN:VTIMEZONE
TZID:UTC
BEGIN:STANDARD
TZOFFSETFROM:+0000
TZOFFSETTO:+0000
TZNAME:UTC
DTSTART:20160101T000000
END:STANDARD
END:VTIMEZONE
BEGIN:VEVENT
DTSTART;TZID=UTC:20170729T080000
DTEND;TZID=UTC:20170729T170000
DTSTAMP:20260423T200153
CREATED:20170120T171215Z
LAST-MODIFIED:20170120T171215Z
UID:1034-1501315200-1501347600@www.emilybelvedere.com
SUMMARY:Wedding
DESCRIPTION:
URL:https://www.emilybelvedere.com/events/wedding-34/
END:VEVENT
BEGIN:VEVENT
DTSTART;TZID=UTC:20170719T080000
DTEND;TZID=UTC:20170719T170000
DTSTAMP:20260423T200153
CREATED:20170628T143053Z
LAST-MODIFIED:20170628T143053Z
UID:1090-1500451200-1500483600@www.emilybelvedere.com
SUMMARY:York Club
DESCRIPTION:
URL:https://www.emilybelvedere.com/events/york-club/
END:VEVENT
BEGIN:VEVENT
DTSTART;TZID=UTC:20170715T080000
DTEND;TZID=UTC:20170715T170000
DTSTAMP:20260423T200153
CREATED:20170120T171145Z
LAST-MODIFIED:20170120T171145Z
UID:1032-1500105600-1500138000@www.emilybelvedere.com
SUMMARY:Wedding
DESCRIPTION:
URL:https://www.emilybelvedere.com/events/wedding-33/
END:VEVENT
BEGIN:VEVENT
DTSTART;TZID=UTC:20170710T080000
DTEND;TZID=UTC:20170714T170000
DTSTAMP:20260423T200153
CREATED:20170619T163138Z
LAST-MODIFIED:20170619T163138Z
UID:1084-1499673600-1500051600@www.emilybelvedere.com
SUMMARY:KingsWorld Music Camp
DESCRIPTION:
URL:https://www.emilybelvedere.com/events/kingsworld-music-camp-2/
END:VEVENT
BEGIN:VEVENT
DTSTART;TZID=UTC:20170708T170000
DTEND;TZID=UTC:20170708T180000
DTSTAMP:20260423T200153
CREATED:20170619T163304Z
LAST-MODIFIED:20170619T163304Z
UID:1088-1499533200-1499536800@www.emilybelvedere.com
SUMMARY:Duo Novus Concert\, Toronto
DESCRIPTION:
URL:https://www.emilybelvedere.com/events/duo-novus-concert-toronto-2/
END:VEVENT
BEGIN:VEVENT
DTSTART;TZID=UTC:20170708T120000
DTEND;TZID=UTC:20170708T140000
DTSTAMP:20260423T200153
CREATED:20170619T163239Z
LAST-MODIFIED:20170619T163239Z
UID:1086-1499515200-1499522400@www.emilybelvedere.com
SUMMARY:Wedding
DESCRIPTION:
URL:https://www.emilybelvedere.com/events/wedding-38/
END:VEVENT
BEGIN:VEVENT
DTSTART;TZID=UTC:20170626T120000
DTEND;TZID=UTC:20170626T150000
DTSTAMP:20260423T200153
CREATED:20170628T143116Z
LAST-MODIFIED:20170628T143116Z
UID:1092-1498478400-1498489200@www.emilybelvedere.com
SUMMARY:Funeral
DESCRIPTION:
URL:https://www.emilybelvedere.com/events/funeral/
END:VEVENT
BEGIN:VEVENT
DTSTART;TZID=UTC:20170619T080000
DTEND;TZID=UTC:20170619T170000
DTSTAMP:20260423T200153
CREATED:20170619T162258Z
LAST-MODIFIED:20170619T162313Z
UID:1067-1497859200-1497891600@www.emilybelvedere.com
SUMMARY:Wedding
DESCRIPTION:12pm-2pm
URL:https://www.emilybelvedere.com/events/july-8th-wedding/
END:VEVENT
BEGIN:VEVENT
DTSTART;TZID=UTC:20170614T150000
DTEND;TZID=UTC:20170614T170000
DTSTAMP:20260423T200153
CREATED:20170207T202301Z
LAST-MODIFIED:20170207T202301Z
UID:1042-1497452400-1497459600@www.emilybelvedere.com
SUMMARY:Toronto York Club
DESCRIPTION:
URL:https://www.emilybelvedere.com/events/toronto-york-club/
END:VEVENT
BEGIN:VEVENT
DTSTART;TZID=UTC:20170614T150000
DTEND;TZID=UTC:20170614T170000
DTSTAMP:20260423T200153
CREATED:20170120T171118Z
LAST-MODIFIED:20170120T171118Z
UID:1030-1497452400-1497459600@www.emilybelvedere.com
SUMMARY:Intrada Sound Event
DESCRIPTION:
URL:https://www.emilybelvedere.com/events/intrada-sound-event/
END:VEVENT
BEGIN:VEVENT
DTSTART;TZID=UTC:20170527T080000
DTEND;TZID=UTC:20170527T170000
DTSTAMP:20260423T200153
CREATED:20170120T171029Z
LAST-MODIFIED:20170120T171029Z
UID:1028-1495872000-1495904400@www.emilybelvedere.com
SUMMARY:Wedding
DESCRIPTION:
URL:https://www.emilybelvedere.com/events/wedding-32/
END:VEVENT
BEGIN:VEVENT
DTSTART;TZID=UTC:20170504T190000
DTEND;TZID=UTC:20170504T220000
DTSTAMP:20260423T200153
CREATED:20170120T171006Z
LAST-MODIFIED:20170120T171006Z
UID:1026-1493924400-1493935200@www.emilybelvedere.com
SUMMARY:Glenn Gould New Music Ensemble
DESCRIPTION:
URL:https://www.emilybelvedere.com/events/glenn-gould-new-music-ensemble/
END:VEVENT
BEGIN:VEVENT
DTSTART;TZID=UTC:20170426T120000
DTEND;TZID=UTC:20170426T140000
DTSTAMP:20260423T200153
CREATED:20170214T202610Z
LAST-MODIFIED:20170214T202610Z
UID:1047-1493208000-1493215200@www.emilybelvedere.com
SUMMARY:" Classics for Babies"
DESCRIPTION:
URL:https://www.emilybelvedere.com/events/classics-for-babies/
LOCATION:Brevik Hall\, Aurora Cultural Centre
END:VEVENT
BEGIN:VEVENT
DTSTART;TZID=UTC:20170406T180000
DTEND;TZID=UTC:20170406T210000
DTSTAMP:20260423T200153
CREATED:20170120T170927Z
LAST-MODIFIED:20170120T170927Z
UID:1024-1491501600-1491512400@www.emilybelvedere.com
SUMMARY:Voice recital: John-Michael Scapin
DESCRIPTION:
URL:https://www.emilybelvedere.com/events/voice-recital-john-michael-scapin/
END:VEVENT
BEGIN:VEVENT
DTSTART;TZID=UTC:20170325T110000
DTEND;TZID=UTC:20170325T130000
DTSTAMP:20260423T200153
CREATED:20170214T202847Z
LAST-MODIFIED:20170214T202847Z
UID:1052-1490439600-1490446800@www.emilybelvedere.com
SUMMARY:RPSM
DESCRIPTION:
URL:https://www.emilybelvedere.com/events/rpsm-3/
END:VEVENT
BEGIN:VEVENT
DTSTART;TZID=UTC:20170311T110000
DTEND;TZID=UTC:20170311T170000
DTSTAMP:20260423T200153
CREATED:20170214T202825Z
LAST-MODIFIED:20170214T202825Z
UID:1050-1489230000-1489251600@www.emilybelvedere.com
SUMMARY:RPSM
DESCRIPTION:
URL:https://www.emilybelvedere.com/events/rpsm-2/
END:VEVENT
BEGIN:VEVENT
DTSTART;TZID=UTC:20170304T080000
DTEND;TZID=UTC:20170304T230000
DTSTAMP:20260423T200153
CREATED:20170214T202512Z
LAST-MODIFIED:20170214T202638Z
UID:1044-1488614400-1488668400@www.emilybelvedere.com
SUMMARY:Tosca Southern Ontario Lyric Opera
DESCRIPTION:
URL:https://www.emilybelvedere.com/events/tosca-southern-ontario-lyric-opera/
LOCATION:Burlington Performing Arts Centre
END:VEVENT
BEGIN:VEVENT
DTSTART;TZID=UTC:20170303T190000
DTEND;TZID=UTC:20170303T220000
DTSTAMP:20260423T200153
CREATED:20170120T170842Z
LAST-MODIFIED:20170120T170842Z
UID:1022-1488567600-1488578400@www.emilybelvedere.com
SUMMARY:Etobicoke Philharmonic Orchestra
DESCRIPTION:
URL:https://www.emilybelvedere.com/events/etobicoke-philharmonic-orchestra-6/
END:VEVENT
BEGIN:VEVENT
DTSTART;TZID=UTC:20170301T190000
DTEND;TZID=UTC:20170301T220000
DTSTAMP:20260423T200153
CREATED:20170120T170812Z
LAST-MODIFIED:20170120T170812Z
UID:1020-1488394800-1488405600@www.emilybelvedere.com
SUMMARY:Etobicoke Philharmonic Orchestra
DESCRIPTION:
URL:https://www.emilybelvedere.com/events/etobicoke-philharmonic-orchestra-5/
END:VEVENT
BEGIN:VEVENT
DTSTART;TZID=UTC:20170223T120000
DTEND;TZID=UTC:20170223T130000
DTSTAMP:20260423T200153
CREATED:20170207T202100Z
LAST-MODIFIED:20170207T202100Z
UID:1039-1487851200-1487854800@www.emilybelvedere.com
SUMMARY:Artists Health Centre: Art in the Atrium
DESCRIPTION:
URL:https://www.emilybelvedere.com/events/artists-health-centre-art-in-the-atrium/
LOCATION:Toronto Western Hospital
END:VEVENT
BEGIN:VEVENT
DTSTART;TZID=UTC:20170222T190000
DTEND;TZID=UTC:20170222T220000
DTSTAMP:20260423T200153
CREATED:20170120T170744Z
LAST-MODIFIED:20170120T170744Z
UID:1018-1487790000-1487800800@www.emilybelvedere.com
SUMMARY:Etobicoke Philharmonic Orchestra
DESCRIPTION:
URL:https://www.emilybelvedere.com/events/etobicoke-philharmonic-orchestra-4/
END:VEVENT
BEGIN:VEVENT
DTSTART;TZID=UTC:20170219T193000
DTEND;TZID=UTC:20170219T193000
DTSTAMP:20260423T200153
CREATED:20170120T170710Z
LAST-MODIFIED:20170120T170710Z
UID:1016-1487532600-1487532600@www.emilybelvedere.com
SUMMARY:flute recital
DESCRIPTION:
URL:https://www.emilybelvedere.com/events/flute-recital/
END:VEVENT
BEGIN:VEVENT
DTSTART;TZID=UTC:20170214T180000
DTEND;TZID=UTC:20170214T210000
DTSTAMP:20260423T200153
CREATED:20170207T201328Z
LAST-MODIFIED:20170207T201328Z
UID:1037-1487095200-1487106000@www.emilybelvedere.com
SUMMARY:Port Credit Valentines Dinner
DESCRIPTION:
URL:https://www.emilybelvedere.com/events/port-credit-valentines-dinner/
END:VEVENT
BEGIN:VEVENT
DTSTART;TZID=UTC:20161213T110000
DTEND;TZID=UTC:20161213T140000
DTSTAMP:20260423T200153
CREATED:20161010T184109Z
LAST-MODIFIED:20161010T184109Z
UID:1007-1481626800-1481637600@www.emilybelvedere.com
SUMMARY:New Music Ensemble
DESCRIPTION:
URL:https://www.emilybelvedere.com/events/new-music-ensemble/
END:VEVENT
BEGIN:VEVENT
DTSTART;TZID=UTC:20161209T180000
DTEND;TZID=UTC:20161210T210000
DTSTAMP:20260423T200153
CREATED:20160915T140624Z
LAST-MODIFIED:20160915T140624Z
UID:996-1481306400-1481403600@www.emilybelvedere.com
SUMMARY:Harp and Horn Recital Clearly Home Concert Series
DESCRIPTION:
URL:https://www.emilybelvedere.com/events/harp-and-horn-recital-clearly-home-concert-series/
END:VEVENT
BEGIN:VEVENT
DTSTART;TZID=UTC:20161125T170000
DTEND;TZID=UTC:20161125T210000
DTSTAMP:20260423T200153
CREATED:20160915T140435Z
LAST-MODIFIED:20160915T140435Z
UID:993-1480093200-1480107600@www.emilybelvedere.com
SUMMARY:Etobicoke Philharmonic Orchestra
DESCRIPTION:
URL:https://www.emilybelvedere.com/events/etobicoke-philharmonic-orchestra-3/
END:VEVENT
BEGIN:VEVENT
DTSTART;TZID=UTC:20161122T180000
DTEND;TZID=UTC:20161122T210000
DTSTAMP:20260423T200153
CREATED:20160915T140401Z
LAST-MODIFIED:20160915T140401Z
UID:991-1479837600-1479848400@www.emilybelvedere.com
SUMMARY:Matthias McIntire Student Composer Concert
DESCRIPTION:
URL:https://www.emilybelvedere.com/events/matthias-mcintire-student-composer-concert/
END:VEVENT
BEGIN:VEVENT
DTSTART;TZID=UTC:20161105T110000
DTEND;TZID=UTC:20161105T140000
DTSTAMP:20260423T200153
CREATED:20161010T184028Z
LAST-MODIFIED:20161010T184205Z
UID:1005-1478343600-1478354400@www.emilybelvedere.com
SUMMARY:RPSM
DESCRIPTION:
URL:https://www.emilybelvedere.com/events/rpsm/
END:VEVENT
BEGIN:VEVENT
DTSTART;TZID=UTC:20161030T190000
DTEND;TZID=UTC:20161030T210000
DTSTAMP:20260423T200153
CREATED:20160915T134340Z
LAST-MODIFIED:20160915T134340Z
UID:989-1477854000-1477861200@www.emilybelvedere.com
SUMMARY:Tyler Versluis DMA recital
DESCRIPTION:
URL:https://www.emilybelvedere.com/events/tyler-versluis-dma-recital/
END:VEVENT
BEGIN:VEVENT
DTSTART;TZID=UTC:20161022T080000
DTEND;TZID=UTC:20161022T170000
DTSTAMP:20260423T200153
CREATED:20161010T183920Z
LAST-MODIFIED:20161010T183920Z
UID:1003-1477123200-1477155600@www.emilybelvedere.com
SUMMARY:Wedding
DESCRIPTION:
URL:https://www.emilybelvedere.com/events/wedding-31/
END:VEVENT
END:VCALENDAR